BEGIN:VCALENDAR
VERSION:2.0
PRODID:-//epe formation - ECPv5.14.2.1//NONSGML v1.0//EN
CALSCALE:GREGORIAN
METHOD:PUBLISH
X-WR-CALNAME:epe formation
X-ORIGINAL-URL:https://formations.epe-idf.com
X-WR-CALDESC:évènements pour epe formation
BEGIN:VTIMEZONE
TZID:UTC
BEGIN:STANDARD
TZOFFSETFROM:+0000
TZOFFSETTO:+0000
TZNAME:UTC
DTSTART:20260101T000000
END:STANDARD
END:VTIMEZONE
BEGIN:VEVENT
DTSTART;TZID=UTC:20261130T093000
DTEND;TZID=UTC:20261204T173000
DTSTAMP:20260421T182312
CREATED:20250725T080730Z
LAST-MODIFIED:20250725T081050Z
UID:11226-1796031000-1796405400@formations.epe-idf.com
SUMMARY:DIPLÔME D’ÉTAT DE MÉDIATEUR FAMILIAL - MODULE 5 - CL02
DESCRIPTION:
URL:https://formations.epe-idf.com/evenement/diplome-detat-de-mediateur-familial-module-5-cl02/
CATEGORIES:FORMATIONS LONGUES
ATTACH;FMTTYPE=image/jpeg:https://formations.epe-idf.com/wp-content/uploads/2018/10/Fotolia_227611864_Subscription_Monthly_M.jpg
END:VEVENT
BEGIN:VEVENT
DTSTART;TZID=UTC:20261201T093000
DTEND;TZID=UTC:20261203T173000
DTSTAMP:20260421T182312
CREATED:20250724T082656Z
LAST-MODIFIED:20250724T142721Z
UID:9033-1796117400-1796319000@formations.epe-idf.com
SUMMARY:ENTRETIEN AVEC LES FAMILLES / ENTRETIEN AVEC LE COUPLE - Z-A15
DESCRIPTION:
URL:https://formations.epe-idf.com/evenement/entretien-avec-les-familles-entretien-avec-le-couple-z-a15-2/
CATEGORIES:FORMATIONS COURTES
ATTACH;FMTTYPE=image/jpeg:https://formations.epe-idf.com/wp-content/uploads/2018/10/CONSEIL-CONJUGAL.jpg
END:VEVENT
END:VCALENDAR